BEGIN:VCALENDAR
PRODID:-//event117290@tiketti.fi//NONSGML kigkonsult.se iCalcreator 2.29.21//
VERSION:2.0
X-WR-TIMEZONE:Europe/Helsinki
BEGIN:VEVENT
UID:20260422T183955EEST-4131eVrCcH@event117290@tiketti.fi
DTSTAMP:20260422T150455Z
DESCRIPTION:Keidas (levyjulkkarit) \nSiltanen\, Helsinki \nPe 24.04.2026 \n
 Ovet klo 20:00 \n \nhttp://www.tiketti.fi/tapahtuma/117290
DTSTART;VALUE=DATE:20260424
LOCATION:Siltanen\, Helsinki
SUMMARY:Keidas (levyjulkkarit)
END:VEVENT
END:VCALENDAR
