BEGIN:VCALENDAR
PRODID:-//event116625@tiketti.fi//NONSGML kigkonsult.se iCalcreator 2.29.21//
VERSION:2.0
X-WR-TIMEZONE:Europe/Helsinki
BEGIN:VEVENT
UID:20260425T181523EEST-8949shZjF6@event116625@tiketti.fi
DTSTAMP:20260425T150423Z
DESCRIPTION:K-40 klubi - DANCE FEST \nMöysän Musaklubi\, Lahti \nLa 23.05.2
 026 \nOvet klo 20:00 \n \nhttp://www.tiketti.fi/tapahtuma/116625
DTSTART;VALUE=DATE:20260523
LOCATION:Möysän Musaklubi\, Lahti
SUMMARY:K-40 klubi - DANCE FEST
END:VEVENT
END:VCALENDAR
