BEGIN:VCALENDAR
PRODID:-//event116192@tiketti.fi//NONSGML kigkonsult.se iCalcreator 2.29.21//
VERSION:2.0
X-WR-TIMEZONE:Europe/Helsinki
BEGIN:VEVENT
UID:20260422T183352EEST-9329JE0d28@event116192@tiketti.fi
DTSTAMP:20260422T150452Z
DESCRIPTION:Awake Again & Beyond Awareness \nSawohouse\, Kuopio \nTo 14.05.
 2026 \nOvet klo 20:00 \n \nhttp://www.tiketti.fi/tapahtuma/116192
DTSTART;VALUE=DATE:20260514
LOCATION:Sawohouse\, Kuopio
SUMMARY:Awake Again & Beyond Awareness
END:VEVENT
END:VCALENDAR
