BEGIN:VCALENDAR
PRODID:-//event115853@tiketti.fi//NONSGML kigkonsult.se iCalcreator 2.29.21//
VERSION:2.0
X-WR-TIMEZONE:Europe/Helsinki
BEGIN:VEVENT
UID:20260422T183119EEST-1037KcF1DV@event115853@tiketti.fi
DTSTAMP:20260422T150419Z
DESCRIPTION:Acid Mothers Temple & The Melting Paraiso U.F.O. (JPN) + suppor
 t: Maan Tomu \nÄäniwalli\, Helsinki \nKe 06.05.2026 \nOvet klo 19:00 \n \n
 http://www.tiketti.fi/tapahtuma/115853
DTSTART;VALUE=DATE:20260506
LOCATION:Ääniwalli\, Helsinki
SUMMARY:Acid Mothers Temple & The Melting Paraiso U.F.O. (JPN) + support: M
 aan Tomu
END:VEVENT
END:VCALENDAR
