BEGIN:VCALENDAR
PRODID:-//event115681@tiketti.fi//NONSGML kigkonsult.se iCalcreator 2.29.21//
VERSION:2.0
X-WR-TIMEZONE:Europe/Helsinki
BEGIN:VEVENT
UID:20260422T182016EEST-0693thJf2L@event115681@tiketti.fi
DTSTAMP:20260422T150416Z
DESCRIPTION:Overhead - 25th Anniversary Tour\, Aamunkoite \nOn The Rocks\, 
 Helsinki \nKe 06.05.2026 \nOvet klo 19:00 \n \nhttp://www.tiketti.fi/tapah
 tuma/115681
DTSTART;VALUE=DATE:20260506
LOCATION:On The Rocks\, Helsinki
SUMMARY:Overhead - 25th Anniversary Tour\, Aamunkoite
END:VEVENT
END:VCALENDAR
