BEGIN:VCALENDAR
PRODID:-//event115582@tiketti.fi//NONSGML kigkonsult.se iCalcreator 2.29.21//
VERSION:2.0
X-WR-TIMEZONE:Europe/Helsinki
BEGIN:VEVENT
UID:20260421T175344EEST-5003gCW1JF@event115582@tiketti.fi
DTSTAMP:20260421T140444Z
DESCRIPTION:Bizi \nTavara-asema\, Tampere \nLa 04.04.2026 \nOvet klo 19:00 
  \nhttp://www.tiketti.fi/tapahtuma/115582
DTSTART;VALUE=DATE:20260404
LOCATION:Tavara-asema\, Tampere
SUMMARY:Bizi
END:VEVENT
END:VCALENDAR
