BEGIN:VCALENDAR
PRODID:-//event114472@tiketti.fi//NONSGML kigkonsult.se iCalcreator 2.29.21//
VERSION:2.0
X-WR-TIMEZONE:Europe/Helsinki
BEGIN:VEVENT
UID:20260423T170031EEST-2264WsZ5tj@event114472@tiketti.fi
DTSTAMP:20260423T140431Z
DESCRIPTION:Herra Ylppö \nMöysän Musaklubi\, Lahti \nPe 08.05.2026 \nOvet k
 lo 20:00 \n \nhttp://www.tiketti.fi/tapahtuma/114472
DTSTART;VALUE=DATE:20260508
LOCATION:Möysän Musaklubi\, Lahti
SUMMARY:Herra Ylppö
END:VEVENT
END:VCALENDAR
