BEGIN:VCALENDAR
PRODID:-//event113989@tiketti.fi//NONSGML kigkonsult.se iCalcreator 2.29.21//
VERSION:2.0
X-WR-TIMEZONE:Europe/Helsinki
BEGIN:VEVENT
UID:20260421T175328EEST-0865vSf9Zj@event113989@tiketti.fi
DTSTAMP:20260421T140428Z
DESCRIPTION:Saimaa Punk Festivaali \nLappeenrannan linnoitus\, Lappeenranta
  \nPe 31.07.2026 - La 01.08.2026 \n \n \nhttp://www.tiketti.fi/tapahtuma/1
 13989
DTSTART;VALUE=DATE:20260731
DTEND;VALUE=DATE:20260802
LOCATION:Lappeenrannan linnoitus\, Lappeenranta
SUMMARY:Saimaa Punk Festivaali
END:VEVENT
END:VCALENDAR
