BEGIN:VCALENDAR
PRODID:-//event113954@tiketti.fi//NONSGML kigkonsult.se iCalcreator 2.29.21//
VERSION:2.0
X-WR-TIMEZONE:Europe/Helsinki
BEGIN:VEVENT
UID:20260421T174729EEST-0436lX88eA@event113954@tiketti.fi
DTSTAMP:20260421T140429Z
DESCRIPTION:Mouhous \nJuvan Kaarihalli\, Juva \nLa 04.04.2026 \nOvet klo 21
 :00 \n \nhttp://www.tiketti.fi/tapahtuma/113954
DTSTART;VALUE=DATE:20260404
LOCATION:Juvan Kaarihalli\, Juva
SUMMARY:Mouhous
END:VEVENT
END:VCALENDAR
