BEGIN:VCALENDAR
PRODID:-//event113883@tiketti.fi//NONSGML kigkonsult.se iCalcreator 2.29.21//
VERSION:2.0
X-WR-TIMEZONE:Europe/Helsinki
BEGIN:VEVENT
UID:20260422T185538EEST-5258VgCNvV@event113883@tiketti.fi
DTSTAMP:20260422T150438Z
DESCRIPTION:Aaro630 + Pihalla \nOlympia\, Tampere \nPe 13.02.2026 \nOvet kl
 o 20:00 \n \nhttp://www.tiketti.fi/tapahtuma/113883
DTSTART;VALUE=DATE:20260213
LOCATION:Olympia\, Tampere
SUMMARY:Aaro630 + Pihalla
END:VEVENT
END:VCALENDAR
