BEGIN:VCALENDAR
PRODID:-//event113755@tiketti.fi//NONSGML kigkonsult.se iCalcreator 2.29.21//
VERSION:2.0
X-WR-TIMEZONE:Europe/Helsinki
BEGIN:VEVENT
UID:20260422T184419EEST-1625CubLz2@event113755@tiketti.fi
DTSTAMP:20260422T150419Z
DESCRIPTION:Samuli Putro x 2 \nLaukon kartano\, Vesilahti \nTo 16.07.2026 
 klo 18:30 \n \nhttp://www.tiketti.fi/tapahtuma/113755
DTSTART;VALUE=DATE:20260716
LOCATION:Laukon kartano\, Vesilahti
SUMMARY:Samuli Putro x 2
END:VEVENT
END:VCALENDAR
