BEGIN:VCALENDAR
PRODID:-//event113066@tiketti.fi//NONSGML kigkonsult.se iCalcreator 2.29.21//
VERSION:2.0
X-WR-TIMEZONE:Europe/Helsinki
BEGIN:VEVENT
UID:20260422T180110EEST-4283joH9l9@event113066@tiketti.fi
DTSTAMP:20260422T150410Z
DESCRIPTION:Cherrie (SWE)\, support: DJ Renaz \nOn The Rocks\, Helsinki \nT
 o 07.05.2026 \nOvet klo 19:00 \n \nhttp://www.tiketti.fi/tapahtuma/113066
DTSTART;VALUE=DATE:20260507
LOCATION:On The Rocks\, Helsinki
SUMMARY:Cherrie (SWE)\, support: DJ Renaz
END:VEVENT
END:VCALENDAR
