BEGIN:VCALENDAR
PRODID:-//event113007@tiketti.fi//NONSGML kigkonsult.se iCalcreator 2.29.21//
VERSION:2.0
X-WR-TIMEZONE:Europe/Helsinki
BEGIN:VEVENT
UID:20260420T152034EEST-4811MDHzWN@event113007@tiketti.fi
DTSTAMP:20260420T120434Z
DESCRIPTION:Tapiola Festivaali 2026 \nGolfStar Leppävaara\, Espoo \nPe 14.0
 8.2026 - La 15.08.2026 \n \n \nhttp://www.tiketti.fi/tapahtuma/113007
DTSTART;VALUE=DATE:20260814
DTEND;VALUE=DATE:20260816
LOCATION:GolfStar Leppävaara\, Espoo
SUMMARY:Tapiola Festivaali 2026
END:VEVENT
END:VCALENDAR
