BEGIN:VCALENDAR
PRODID:-//event112293@tiketti.fi//NONSGML kigkonsult.se iCalcreator 2.29.21//
VERSION:2.0
X-WR-TIMEZONE:Europe/Helsinki
BEGIN:VEVENT
UID:20260422T184236EEST-6202jLBGhs@event112293@tiketti.fi
DTSTAMP:20260422T150436Z
DESCRIPTION:Hassan Maikal & Sointi Jazz Orchestra \nTavastia-klubi\, Helsin
 ki \nPe 19.12.2025 \nOvet klo 20:00 \n \nhttp://www.tiketti.fi/tapahtuma/1
 12293
DTSTART;VALUE=DATE:20251219
LOCATION:Tavastia-klubi\, Helsinki
SUMMARY:Hassan Maikal & Sointi Jazz Orchestra
END:VEVENT
END:VCALENDAR
