BEGIN:VCALENDAR
PRODID:-//event112291@tiketti.fi//NONSGML kigkonsult.se iCalcreator 2.29.21//
VERSION:2.0
X-WR-TIMEZONE:Europe/Helsinki
BEGIN:VEVENT
UID:20260425T181258EEST-2814ei7TIL@event112291@tiketti.fi
DTSTAMP:20260425T150458Z
DESCRIPTION:Tampereen konservatorio: Yhteisellä äänellä \nG Livelab Tampere
 \, Tampere \nKe 26.11.2025 \nOvet klo 18:00 \n \nhttp://www.tiketti.fi/tap
 ahtuma/112291
DTSTART;VALUE=DATE:20251126
LOCATION:G Livelab Tampere\, Tampere
SUMMARY:Tampereen konservatorio: Yhteisellä äänellä
END:VEVENT
END:VCALENDAR
