BEGIN:VCALENDAR
PRODID:-//event112119@tiketti.fi//NONSGML kigkonsult.se iCalcreator 2.29.21//
VERSION:2.0
X-WR-TIMEZONE:Europe/Helsinki
BEGIN:VEVENT
UID:20260421T175328EEST-2832gx06vI@event112119@tiketti.fi
DTSTAMP:20260421T140428Z
DESCRIPTION:Vesterinen Yhtyeineen: Liian hiljaista -levynjulkaisukiertue \n
 Salohalli\, Salo \nPe 08.05.2026 \nOvet klo 18:30 \n \nhttp://www.tiketti.
 fi/tapahtuma/112119
DTSTART;VALUE=DATE:20260508
LOCATION:Salohalli\, Salo
SUMMARY:Vesterinen Yhtyeineen: Liian hiljaista -levynjulkaisukiertue
END:VEVENT
END:VCALENDAR
