BEGIN:VCALENDAR
PRODID:-//event111390@tiketti.fi//NONSGML kigkonsult.se iCalcreator 2.29.21//
VERSION:2.0
X-WR-TIMEZONE:Europe/Helsinki
BEGIN:VEVENT
UID:20260421T175333EEST-7189pmGU6C@event111390@tiketti.fi
DTSTAMP:20260421T140433Z
DESCRIPTION:Tinyhawk & Bizzarro \nTuba\, Oulu \nLa 08.11.2025 \nOvet klo 20
 :00 \n \nhttp://www.tiketti.fi/tapahtuma/111390
DTSTART;VALUE=DATE:20251108
LOCATION:Tuba\, Oulu
SUMMARY:Tinyhawk & Bizzarro
END:VEVENT
END:VCALENDAR
