BEGIN:VCALENDAR
PRODID:-//event109875@tiketti.fi//NONSGML kigkonsult.se iCalcreator 2.29.21//
VERSION:2.0
X-WR-TIMEZONE:Europe/Helsinki
BEGIN:VEVENT
UID:20260423T170213EEST-9781OpNf6V@event109875@tiketti.fi
DTSTAMP:20260423T140413Z
DESCRIPTION:Kake Randelin \nTammerfors \nThu 27.11.2025 \nDörrar kl. 18:30 
  \nhttp://www.tiketti.fi/tapahtuma/109875
DTSTART;VALUE=DATE:20251127
LOCATION:Tammerfors
SUMMARY:Kake Randelin
END:VEVENT
END:VCALENDAR
